BEGIN:VCALENDAR
PRODID:-//hacksw/handcal//NONSGML v1.0//EN
VERSION:2.0
METHOD:PUBLISH
BEGIN:VEVENT
DTSTART:20200311T114500Z
DTEND:20200311T131500Z
LOCATION:Fiddler's Elbow Country Club
UID:1829420200311T114500Z CANCELLED MEETING  - Duties and Problems as a Trustee
DTSTAMP:20260420T162832Z
DESCRIPTION:
SUMMARY: CANCELLED MEETING  - Duties and Problems as a Trustee - Greater Middlesex Somerset County Estate Planning Council 
PRIORITY:3
BEGIN:VALARM
TRIGGER:PT18H
ACTION:DISPLAY
DESCRIPTION:Reminder
END:VALARM
END:VEVENT
END:VCALENDAR